BEGIN:VCALENDAR
VERSION:2.0
PRODID:-//White Pass Scenic Byway - ECPv6.15.17.1//NONSGML v1.0//EN
CALSCALE:GREGORIAN
METHOD:PUBLISH
X-WR-CALNAME:White Pass Scenic Byway
X-ORIGINAL-URL:https://whitepassbyway.com
X-WR-CALDESC:Events for White Pass Scenic Byway
REFRESH-INTERVAL;VALUE=DURATION:PT1H
X-Robots-Tag:noindex
X-PUBLISHED-TTL:PT1H
BEGIN:VTIMEZONE
TZID:America/Los_Angeles
BEGIN:DAYLIGHT
TZOFFSETFROM:-0800
TZOFFSETTO:-0700
TZNAME:PDT
DTSTART:20250309T100000
END:DAYLIGHT
BEGIN:STANDARD
TZOFFSETFROM:-0700
TZOFFSETTO:-0800
TZNAME:PST
DTSTART:20251102T090000
END:STANDARD
BEGIN:DAYLIGHT
TZOFFSETFROM:-0800
TZOFFSETTO:-0700
TZNAME:PDT
DTSTART:20260308T100000
END:DAYLIGHT
BEGIN:STANDARD
TZOFFSETFROM:-0700
TZOFFSETTO:-0800
TZNAME:PST
DTSTART:20261101T090000
END:STANDARD
BEGIN:DAYLIGHT
TZOFFSETFROM:-0800
TZOFFSETTO:-0700
TZNAME:PDT
DTSTART:20270314T100000
END:DAYLIGHT
BEGIN:STANDARD
TZOFFSETFROM:-0700
TZOFFSETTO:-0800
TZNAME:PST
DTSTART:20271107T090000
END:STANDARD
END:VTIMEZONE
BEGIN:VEVENT
DTSTART;VALUE=DATE:20260422
DTEND;VALUE=DATE:20260423
DTSTAMP:20260424T200020
CREATED:20191228T221631Z
LAST-MODIFIED:20260302T063354Z
UID:4958-1776816000-1776902399@whitepassbyway.com
SUMMARY:Fee Free at all Washington State Parks
DESCRIPTION:Washington’s state land management agencies have designated 12 Discover Pass free days for 2026\, creating more opportunities for visitors to experience our state’s beauty. \nOn these free days\, a Discover Pass is not required to park at Washington state parks or on lands managed by the Washington State Department of Natural Resources and the Washington Department of Fish and Wildlife. Sno-Park permits are still required when visiting Sno-Parks. \nEach of the Discover Pass free days celebrates an important day of the year with the opportunity to get outside and enjoy the restorative impact of nature with friends\, family or in a moment of well-deserved solitude. \nThe 2026 dates are:\n\n\n\nThursday\, Jan. 1 – New Year’s Day\nMonday\, Jan. 19 – Martin Luther King Jr. Day\nMonday\, March 9 – Billy Frank Jr.’s birthday\nThursday\, March 19 – State Parks’ 113th birthday\nWednesday\, April 22 – Earth Day\nSaturday and Sunday\, June 6-7 – Free Fishing Weekend\nFriday\, June 19 – Juneteenth\nSunday\, Aug. 9 – Smokey Bear’s birthday\nSaturday\, Sept. 26 – National Public Lands Day\nSaturday\, Oct. 10 – World Mental Health Day\nWednesday\, Nov. 11 – Veterans Day
URL:https://whitepassbyway.com/event/fee-free-at-all-washington-state-parks-2/
ATTACH;FMTTYPE=image/jpeg:https://whitepassbyway.com/wp-content/uploads/2019/05/0714_pal-865.jpg
END:VEVENT
END:VCALENDAR