BEGIN:VCALENDAR
VERSION:2.0
PRODID:-//White Pass Scenic Byway - ECPv6.15.17.1//NONSGML v1.0//EN
CALSCALE:GREGORIAN
METHOD:PUBLISH
X-ORIGINAL-URL:https://whitepassbyway.com
X-WR-CALDESC:Events for White Pass Scenic Byway
REFRESH-INTERVAL;VALUE=DURATION:PT1H
X-Robots-Tag:noindex
X-PUBLISHED-TTL:PT1H
BEGIN:VTIMEZONE
TZID:America/Los_Angeles
BEGIN:DAYLIGHT
TZOFFSETFROM:-0800
TZOFFSETTO:-0700
TZNAME:PDT
DTSTART:20250309T100000
END:DAYLIGHT
BEGIN:STANDARD
TZOFFSETFROM:-0700
TZOFFSETTO:-0800
TZNAME:PST
DTSTART:20251102T090000
END:STANDARD
BEGIN:DAYLIGHT
TZOFFSETFROM:-0800
TZOFFSETTO:-0700
TZNAME:PDT
DTSTART:20260308T100000
END:DAYLIGHT
BEGIN:STANDARD
TZOFFSETFROM:-0700
TZOFFSETTO:-0800
TZNAME:PST
DTSTART:20261101T090000
END:STANDARD
BEGIN:DAYLIGHT
TZOFFSETFROM:-0800
TZOFFSETTO:-0700
TZNAME:PDT
DTSTART:20270314T100000
END:DAYLIGHT
BEGIN:STANDARD
TZOFFSETFROM:-0700
TZOFFSETTO:-0800
TZNAME:PST
DTSTART:20271107T090000
END:STANDARD
END:VTIMEZONE
BEGIN:VEVENT
DTSTART;VALUE=DATE:20260806
DTEND;VALUE=DATE:20260810
DTSTAMP:20260424T200006
CREATED:20190307T164250Z
LAST-MODIFIED:20251218T205536Z
UID:2372-1785974400-1786319999@whitepassbyway.com
SUMMARY:Morton Loggers Jubilee
DESCRIPTION:Morton Loggers Jubilee \nAugust 6-9\nMorton \nThe Annual Loggers’ Jubilee has become “the Granddaddy of all Logging Shows” and a celebration for people of all ages. From the Main Street Parades to the Lawnmower Races\, the world-famous Logging shows to the Jubilee Queen Coronation\, Morton’s Loggers’ Jubilee promises a good time for all.
URL:https://whitepassbyway.com/event/morton-loggers-jubilee/
CATEGORIES:Morton
ATTACH;FMTTYPE=image/jpeg:https://whitepassbyway.com/wp-content/uploads/2019/03/Events-loggersjubilee.jpg
END:VEVENT
END:VCALENDAR